BEGIN:VCALENDAR
VERSION:2.0
PRODID:-//Finstall Parish Council - ECPv6.15.18//NONSGML v1.0//EN
CALSCALE:GREGORIAN
METHOD:PUBLISH
X-WR-CALNAME:Finstall Parish Council
X-ORIGINAL-URL:https://finstallparishcouncil.gov.uk
X-WR-CALDESC:Events for Finstall Parish Council
REFRESH-INTERVAL;VALUE=DURATION:PT1H
X-Robots-Tag:noindex
X-PUBLISHED-TTL:PT1H
BEGIN:VTIMEZONE
TZID:Europe/London
BEGIN:DAYLIGHT
TZOFFSETFROM:+0000
TZOFFSETTO:+0100
TZNAME:BST
DTSTART:20220327T010000
END:DAYLIGHT
BEGIN:STANDARD
TZOFFSETFROM:+0100
TZOFFSETTO:+0000
TZNAME:GMT
DTSTART:20221030T010000
END:STANDARD
BEGIN:DAYLIGHT
TZOFFSETFROM:+0000
TZOFFSETTO:+0100
TZNAME:BST
DTSTART:20230326T010000
END:DAYLIGHT
BEGIN:STANDARD
TZOFFSETFROM:+0100
TZOFFSETTO:+0000
TZNAME:GMT
DTSTART:20231029T010000
END:STANDARD
BEGIN:DAYLIGHT
TZOFFSETFROM:+0000
TZOFFSETTO:+0100
TZNAME:BST
DTSTART:20240331T010000
END:DAYLIGHT
BEGIN:STANDARD
TZOFFSETFROM:+0100
TZOFFSETTO:+0000
TZNAME:GMT
DTSTART:20241027T010000
END:STANDARD
BEGIN:DAYLIGHT
TZOFFSETFROM:+0000
TZOFFSETTO:+0100
TZNAME:BST
DTSTART:20250330T010000
END:DAYLIGHT
BEGIN:STANDARD
TZOFFSETFROM:+0100
TZOFFSETTO:+0000
TZNAME:GMT
DTSTART:20251026T010000
END:STANDARD
BEGIN:DAYLIGHT
TZOFFSETFROM:+0000
TZOFFSETTO:+0100
TZNAME:BST
DTSTART:20260329T010000
END:DAYLIGHT
BEGIN:STANDARD
TZOFFSETFROM:+0100
TZOFFSETTO:+0000
TZNAME:GMT
DTSTART:20261025T010000
END:STANDARD
END:VTIMEZONE
BEGIN:VEVENT
DTSTART;TZID=Europe/London:20251007T193000
DTEND;TZID=Europe/London:20251007T193000
DTSTAMP:20260421T092657
CREATED:20250929T065428Z
LAST-MODIFIED:20250929T065428Z
UID:2816-1759865400-1759865400@finstallparishcouncil.gov.uk
SUMMARY:Parish Council Meeting
DESCRIPTION:This meeting will be held at Finstall Village Hall. Members of the public are welcome to attend; please see the agenda for more details.
URL:https://finstallparishcouncil.gov.uk/event/parish-council-meeting-20
LOCATION:Finstall Village Hall
CATEGORIES:Parish Council Meetings
END:VEVENT
BEGIN:VEVENT
DTSTART;TZID=Europe/London:20250902T193000
DTEND;TZID=Europe/London:20250902T193000
DTSTAMP:20260421T092657
CREATED:20250702T085452Z
LAST-MODIFIED:20250702T085452Z
UID:2762-1756841400-1756841400@finstallparishcouncil.gov.uk
SUMMARY:Parish Council Meeting
DESCRIPTION:This meeting will be held at Finstall Village Hall. Members of the public are welcome to attend; please see the agenda for more details.
URL:https://finstallparishcouncil.gov.uk/event/parish-council-meeting-19
LOCATION:Finstall Village Hall
CATEGORIES:Parish Council Meetings
END:VEVENT
BEGIN:VEVENT
DTSTART;TZID=Europe/London:20250603T193000
DTEND;TZID=Europe/London:20250603T193000
DTSTAMP:20260421T092657
CREATED:20250513T081344Z
LAST-MODIFIED:20250513T084041Z
UID:2701-1748979000-1748979000@finstallparishcouncil.gov.uk
SUMMARY:Parish Council Meeting
DESCRIPTION:This meeting will be held at Finstall Village Hall. Members of the public are welcome to attend; please see the agenda for more details.
URL:https://finstallparishcouncil.gov.uk/event/parish-council-meeting-18
LOCATION:Finstall Village Hall
CATEGORIES:Parish Council Meetings
END:VEVENT
BEGIN:VEVENT
DTSTART;TZID=Europe/London:20250506T190000
DTEND;TZID=Europe/London:20250506T190000
DTSTAMP:20260421T092657
CREATED:20241126T173805Z
LAST-MODIFIED:20250521T141524Z
UID:2302-1746558000-1746558000@finstallparishcouncil.gov.uk
SUMMARY:Annual Parish Council Meeting
DESCRIPTION:This meeting will be held at Finstall Village Hall. Members of the public are welcome to attend; please see the agenda for more details.
URL:https://finstallparishcouncil.gov.uk/event/annual-parish-council-meeting-2
LOCATION:Finstall Village Hall
CATEGORIES:Parish Council Meetings
END:VEVENT
BEGIN:VEVENT
DTSTART;TZID=Europe/London:20250401T193000
DTEND;TZID=Europe/London:20250401T193000
DTSTAMP:20260421T092657
CREATED:20241126T173737Z
LAST-MODIFIED:20250402T121422Z
UID:2300-1743535800-1743535800@finstallparishcouncil.gov.uk
SUMMARY:Parish Council Meeting
DESCRIPTION:This meeting will be held at Finstall Village Hall. Members of the public are welcome to attend; please see the agenda for more details.
URL:https://finstallparishcouncil.gov.uk/event/parish-council-meeting-17
LOCATION:Finstall Village Hall
CATEGORIES:Parish Council Meetings
END:VEVENT
BEGIN:VEVENT
DTSTART;TZID=Europe/London:20250304T193000
DTEND;TZID=Europe/London:20250304T193000
DTSTAMP:20260421T092657
CREATED:20241126T173710Z
LAST-MODIFIED:20250305T082615Z
UID:2298-1741116600-1741116600@finstallparishcouncil.gov.uk
SUMMARY:Parish Council Meeting
DESCRIPTION:This meeting will be held at Finstall Village Hall. Members of the public are welcome to attend; please see the agenda for more details.
URL:https://finstallparishcouncil.gov.uk/event/parish-council-meeting-16
LOCATION:Finstall Village Hall
CATEGORIES:Parish Council Meetings
END:VEVENT
BEGIN:VEVENT
DTSTART;TZID=Europe/London:20250204T193000
DTEND;TZID=Europe/London:20250204T213000
DTSTAMP:20260421T092657
CREATED:20241126T161709Z
LAST-MODIFIED:20241126T161709Z
UID:2271-1738697400-1738704600@finstallparishcouncil.gov.uk
SUMMARY:Parish Council Meeting
DESCRIPTION:
URL:https://finstallparishcouncil.gov.uk/event/parish-council-meeting-14
LOCATION:Finstall Village Hall
CATEGORIES:Parish Council Meetings
END:VEVENT
BEGIN:VEVENT
DTSTART;TZID=Europe/London:20250107T193000
DTEND;TZID=Europe/London:20250107T193000
DTSTAMP:20260421T092657
CREATED:20241126T173642Z
LAST-MODIFIED:20250125T150919Z
UID:2296-1736278200-1736278200@finstallparishcouncil.gov.uk
SUMMARY:Parish Council Meeting
DESCRIPTION:This meeting will be held at Finstall Village Hall. Members of the public are welcome to attend; please see the agenda for more details.
URL:https://finstallparishcouncil.gov.uk/event/parish-council-meeting-15
LOCATION:Finstall Village Hall
CATEGORIES:Parish Council Meetings
END:VEVENT
BEGIN:VEVENT
DTSTART;TZID=Europe/London:20241220T193000
DTEND;TZID=Europe/London:20241220T203000
DTSTAMP:20260421T092657
CREATED:20241126T161101Z
LAST-MODIFIED:20241126T173505Z
UID:2264-1734723000-1734726600@finstallparishcouncil.gov.uk
SUMMARY:Christmas Carols
DESCRIPTION:Come and sing with your Finstall friends and neighbours outside the village hall and get ready for Christmas! \n7.30pm on Friday 20th December 2024.
URL:https://finstallparishcouncil.gov.uk/event/christmas-carols-2
LOCATION:Finstall Village Hall
CATEGORIES:Community
ATTACH;FMTTYPE=image/jpeg:https://images.unsplash.com/photo-1545583311-1999280fb9d5?ixid=M3w0OTYwNTJ8MHwxfGFsbHx8fHx8fHx8fDE3MzI2Mzc0MDB8&ixlib=rb-4.0.3
END:VEVENT
BEGIN:VEVENT
DTSTART;TZID=Europe/London:20241203T193000
DTEND;TZID=Europe/London:20241203T193000
DTSTAMP:20260421T092657
CREATED:20240410T100330Z
LAST-MODIFIED:20241210T171429Z
UID:1567-1733254200-1733254200@finstallparishcouncil.gov.uk
SUMMARY:Parish Council Meeting
DESCRIPTION:This meeting will be held at Finstall Village Hall. Members of the public are welcome to attend; please see the agenda for more details.
URL:https://finstallparishcouncil.gov.uk/event/parish-council-meeting-13
LOCATION:Finstall Village Hall
CATEGORIES:Parish Council Meetings
END:VEVENT
BEGIN:VEVENT
DTSTART;TZID=Europe/London:20241105T193000
DTEND;TZID=Europe/London:20241105T193000
DTSTAMP:20260421T092657
CREATED:20240410T100252Z
LAST-MODIFIED:20241125T112357Z
UID:1564-1730835000-1730835000@finstallparishcouncil.gov.uk
SUMMARY:Parish Council Meeting
DESCRIPTION:This meeting will be held at Finstall Village Hall. Members of the public are welcome to attend; please see the agenda for more details.
URL:https://finstallparishcouncil.gov.uk/event/parish-council-meeting-12
LOCATION:Finstall Village Hall
CATEGORIES:Parish Council Meetings
END:VEVENT
BEGIN:VEVENT
DTSTART;TZID=Europe/London:20241001T193000
DTEND;TZID=Europe/London:20241001T193000
DTSTAMP:20260421T092657
CREATED:20240410T100211Z
LAST-MODIFIED:20241011T163420Z
UID:1561-1727811000-1727811000@finstallparishcouncil.gov.uk
SUMMARY:Parish Council Meeting
DESCRIPTION:This meeting will be held at Finstall Village Hall. Members of the public are welcome to attend; please see the agenda for more details.
URL:https://finstallparishcouncil.gov.uk/event/1561
LOCATION:Finstall Village Hall
CATEGORIES:Parish Council Meetings
END:VEVENT
BEGIN:VEVENT
DTSTART;TZID=Europe/London:20240903T193000
DTEND;TZID=Europe/London:20240903T193000
DTSTAMP:20260421T092657
CREATED:20240410T100126Z
LAST-MODIFIED:20240910T115637Z
UID:1558-1725391800-1725391800@finstallparishcouncil.gov.uk
SUMMARY:Parish Council Meeting
DESCRIPTION:This meeting will be held at Finstall Village Hall. Members of the public are welcome to attend; please see the agenda for more details.
URL:https://finstallparishcouncil.gov.uk/event/parish-council-meeting-11
LOCATION:Finstall Village Hall
CATEGORIES:Parish Council Meetings
END:VEVENT
BEGIN:VEVENT
DTSTART;TZID=Europe/London:20240702T193000
DTEND;TZID=Europe/London:20240702T193000
DTSTAMP:20260421T092657
CREATED:20240410T100003Z
LAST-MODIFIED:20240805T133811Z
UID:1554-1719948600-1719948600@finstallparishcouncil.gov.uk
SUMMARY:Parish Council Meeting
DESCRIPTION:This meeting will be held at Finstall Village Hall. Members of the public are welcome to attend; please see the agenda for more details.
URL:https://finstallparishcouncil.gov.uk/event/parish-council-meeting-10
LOCATION:Finstall Village Hall
CATEGORIES:Parish Council Meetings
END:VEVENT
BEGIN:VEVENT
DTSTART;TZID=Europe/London:20240604T193000
DTEND;TZID=Europe/London:20240604T193000
DTSTAMP:20260421T092657
CREATED:20240410T095911Z
LAST-MODIFIED:20240610T095437Z
UID:1551-1717529400-1717529400@finstallparishcouncil.gov.uk
SUMMARY:Parish Council Meeting
DESCRIPTION:This meeting will be held at Finstall Village Hall. Members of the public are welcome to attend; please see the agenda for more details.
URL:https://finstallparishcouncil.gov.uk/event/parish-council-meeting-9
LOCATION:Finstall Village Hall
CATEGORIES:Parish Council Meetings
END:VEVENT
BEGIN:VEVENT
DTSTART;TZID=Europe/London:20240507T193000
DTEND;TZID=Europe/London:20240507T193000
DTSTAMP:20260421T092657
CREATED:20231207T105732Z
LAST-MODIFIED:20240514T165945Z
UID:1078-1715110200-1715110200@finstallparishcouncil.gov.uk
SUMMARY:Annual Parish Council Meeting
DESCRIPTION:This meeting will be held at Finstall Village Hall. Members of the public are welcome to attend; please see the agenda for more details.
URL:https://finstallparishcouncil.gov.uk/event/annual-parish-council-meeting
LOCATION:Finstall Village Hall
CATEGORIES:Parish Council Meetings
END:VEVENT
BEGIN:VEVENT
DTSTART;TZID=Europe/London:20240404T193000
DTEND;TZID=Europe/London:20240404T193000
DTSTAMP:20260421T092657
CREATED:20231207T110521Z
LAST-MODIFIED:20231207T110521Z
UID:1090-1712259000-1712259000@finstallparishcouncil.gov.uk
SUMMARY:Annual Parish Assembly
DESCRIPTION:This meeting will be held at Finstall Village Hall. Members of the public are welcome to attend; please see the agenda for more details.
URL:https://finstallparishcouncil.gov.uk/event/annual-parish-assembly
LOCATION:Finstall Village Hall
CATEGORIES:Parish Council Meetings
END:VEVENT
BEGIN:VEVENT
DTSTART;TZID=Europe/London:20240404T190000
DTEND;TZID=Europe/London:20240404T190000
DTSTAMP:20260421T092657
CREATED:20240325T212619Z
LAST-MODIFIED:20240410T095606Z
UID:1499-1712257200-1712257200@finstallparishcouncil.gov.uk
SUMMARY:Annual Parish Assembly
DESCRIPTION:
URL:https://finstallparishcouncil.gov.uk/event/annual-parish-assembly-2
LOCATION:Finstall Village Hall
CATEGORIES:Parish Council Meetings
END:VEVENT
BEGIN:VEVENT
DTSTART;TZID=Europe/London:20240402T193000
DTEND;TZID=Europe/London:20240402T193000
DTSTAMP:20260421T092657
CREATED:20231207T105915Z
LAST-MODIFIED:20240410T095510Z
UID:1080-1712086200-1712086200@finstallparishcouncil.gov.uk
SUMMARY:Parish Council Meeting
DESCRIPTION:This meeting will be held at Finstall Village Hall. Members of the public are welcome to attend; please see the agenda for more details.
URL:https://finstallparishcouncil.gov.uk/event/parish-council-meeting-5
LOCATION:Finstall Village Hall
CATEGORIES:Parish Council Meetings
END:VEVENT
BEGIN:VEVENT
DTSTART;TZID=Europe/London:20240305T193000
DTEND;TZID=Europe/London:20240305T193000
DTSTAMP:20260421T092657
CREATED:20231207T105947Z
LAST-MODIFIED:20240315T123949Z
UID:1083-1709667000-1709667000@finstallparishcouncil.gov.uk
SUMMARY:Parish Council Meeting
DESCRIPTION:This meeting will be held at Finstall Village Hall. Members of the public are welcome to attend; please see the agenda for more details.
URL:https://finstallparishcouncil.gov.uk/event/parish-council-meeting-6
LOCATION:Finstall Village Hall
CATEGORIES:Parish Council Meetings
END:VEVENT
BEGIN:VEVENT
DTSTART;TZID=Europe/London:20240206T193000
DTEND;TZID=Europe/London:20240206T193000
DTSTAMP:20260421T092657
CREATED:20231207T110013Z
LAST-MODIFIED:20240212T175932Z
UID:1085-1707247800-1707247800@finstallparishcouncil.gov.uk
SUMMARY:Parish Council Meeting
DESCRIPTION:This meeting will be held at Finstall Village Hall. Members of the public are welcome to attend; please see the agenda for more details.
URL:https://finstallparishcouncil.gov.uk/event/parish-council-meeting-7
LOCATION:Finstall Village Hall
CATEGORIES:Parish Council Meetings
END:VEVENT
BEGIN:VEVENT
DTSTART;VALUE=DATE:20240116
DTEND;VALUE=DATE:20240117
DTSTAMP:20260421T092657
CREATED:20231109T183834Z
LAST-MODIFIED:20231109T183834Z
UID:957-1705363200-1705449599@finstallparishcouncil.gov.uk
SUMMARY:Walnut Lane road closure
DESCRIPTION:Closure due to work to water main. One day only. Diversion via Dusthouse Lane\, St Godwald’s Road\, Finstall Road.
URL:https://finstallparishcouncil.gov.uk/event/walnut-lane-road-closure
LOCATION:Walnut Lane Finstall\, Walnut Lane\, Finstall\, B60 3BU\, United Kingdom
ATTACH;FMTTYPE=image/jpeg:https://images.unsplash.com/photo-1660620942289-9416dac07d72?ixid=M3w0OTYwNTJ8MHwxfGFsbHx8fHx8fHx8fDE2OTk1NTE5NzV8&ixlib=rb-4.0.3
END:VEVENT
BEGIN:VEVENT
DTSTART;TZID=Europe/London:20240102T193000
DTEND;TZID=Europe/London:20240102T193000
DTSTAMP:20260421T092657
CREATED:20231207T110048Z
LAST-MODIFIED:20240104T134834Z
UID:1087-1704223800-1704223800@finstallparishcouncil.gov.uk
SUMMARY:Parish Council Meeting
DESCRIPTION:This meeting will be held at Finstall Village Hall. Members of the public are welcome to attend; please see the agenda for more details.
URL:https://finstallparishcouncil.gov.uk/event/parish-council-meeting-8
LOCATION:Finstall Village Hall
CATEGORIES:Parish Council Meetings
END:VEVENT
BEGIN:VEVENT
DTSTART;TZID=Europe/London:20231215T190000
DTEND;TZID=Europe/London:20231215T203000
DTSTAMP:20260421T092657
CREATED:20231109T183348Z
LAST-MODIFIED:20231109T183348Z
UID:954-1702666800-1702672200@finstallparishcouncil.gov.uk
SUMMARY:Christmas Carols
DESCRIPTION:This year’s Finstall Carol Service will take place outside Finstall Village Hall on Friday 15th December at 7pm. \nJoin the church choirs and sing along with us at our traditional event followed by well-deserved refreshments including mince-pies\, tea and coffee and\, for over-18’s only\, the locally brewed mulled cider. Sweets for the under-18’s. Inside the hall if wet.
URL:https://finstallparishcouncil.gov.uk/event/christmas-carols
LOCATION:Finstall Village Hall
ATTACH;FMTTYPE=image/jpeg:https://images.unsplash.com/photo-1512072893134-b8754d1e23a0?ixid=M3w0OTYwNTJ8MHwxfGFsbHx8fHx8fHx8fDE2OTk1NTMyNzJ8&ixlib=rb-4.0.3
END:VEVENT
BEGIN:VEVENT
DTSTART;TZID=Europe/London:20231205T193000
DTEND;TZID=Europe/London:20231205T193000
DTSTAMP:20260421T092657
CREATED:20230809T170814Z
LAST-MODIFIED:20231206T223020Z
UID:550-1701804600-1701804600@finstallparishcouncil.gov.uk
SUMMARY:Parish Council Meeting
DESCRIPTION:This meeting will be held at Finstall Village Hall. Members of the public are welcome to attend; please see the agenda for more details.
URL:https://finstallparishcouncil.gov.uk/event/parish-council-meeting-4
LOCATION:Finstall Village Hall
CATEGORIES:Parish Council Meetings
END:VEVENT
BEGIN:VEVENT
DTSTART;TZID=Europe/London:20231125T110000
DTEND;TZID=Europe/London:20231125T133000
DTSTAMP:20260421T092657
CREATED:20231109T183151Z
LAST-MODIFIED:20231109T183151Z
UID:950-1700910000-1700919000@finstallparishcouncil.gov.uk
SUMMARY:Coffee Morning
DESCRIPTION:Our next great local event is on Saturday the 25th November 11-13:30 \nThanks to everyone for making our fruit and veg show such a great success. The next event is a Christmas coffee morning on Saturday 25th November 2023 from 11am until 1-30pm. This is your chance to come and have a cuppa and a chat etc plus the usual cakes\, tea\, coffee and the best scones around to enjoy\, stalls to come and browse\, a great raffle with loads of prizes and of course coffee and tea ! come and join us for a great event and laughter. All welcome !! \nSmartWater and Fire Safety information will also be available.
URL:https://finstallparishcouncil.gov.uk/event/coffee-morning
LOCATION:Finstall Village Hall
ATTACH;FMTTYPE=image/jpeg:https://images.unsplash.com/photo-1580915202540-741dbc29651c?ixid=M3w0OTYwNTJ8MHwxfGFsbHx8fHx8fHx8fDE2OTk1NTI0MjB8&ixlib=rb-4.0.3
END:VEVENT
BEGIN:VEVENT
DTSTART;TZID=Europe/London:20231107T193000
DTEND;TZID=Europe/London:20231107T193000
DTSTAMP:20260421T092657
CREATED:20230809T170756Z
LAST-MODIFIED:20231127T132131Z
UID:548-1699385400-1699385400@finstallparishcouncil.gov.uk
SUMMARY:Parish Council Meeting
DESCRIPTION:This meeting will be held at Finstall Village Hall. Members of the public are welcome to attend; please see the agenda for more details.
URL:https://finstallparishcouncil.gov.uk/event/parish-council-meeting-3
LOCATION:Finstall Village Hall
CATEGORIES:Parish Council Meetings
END:VEVENT
BEGIN:VEVENT
DTSTART;TZID=Europe/London:20231003T193000
DTEND;TZID=Europe/London:20231003T193000
DTSTAMP:20260421T092657
CREATED:20230809T170515Z
LAST-MODIFIED:20231031T212400Z
UID:544-1696361400-1696361400@finstallparishcouncil.gov.uk
SUMMARY:Parish Council Meeting
DESCRIPTION:This meeting will be held at Finstall Village Hall. Members of the public are welcome to attend; please see the agenda for more details.
URL:https://finstallparishcouncil.gov.uk/event/parish-council-meeting-2
LOCATION:Finstall Village Hall
CATEGORIES:Parish Council Meetings
END:VEVENT
BEGIN:VEVENT
DTSTART;TZID=Europe/London:20230905T193000
DTEND;TZID=Europe/London:20230905T193000
DTSTAMP:20260421T092657
CREATED:20230809T170457Z
LAST-MODIFIED:20230910T141708Z
UID:542-1693942200-1693942200@finstallparishcouncil.gov.uk
SUMMARY:Parish Council Meeting
DESCRIPTION:This meeting will be held at Finstall Village Hall. Members of the public are welcome to attend; please see the agenda for more details.
URL:https://finstallparishcouncil.gov.uk/event/parish-council-meeting
LOCATION:Finstall Village Hall
CATEGORIES:Parish Council Meetings
END:VEVENT
END:VCALENDAR